BEGIN:VCALENDAR
VERSION:2.0
PRODID:-//First United Methodist Church Warsaw - ECPv6.15.14//NONSGML v1.0//EN
CALSCALE:GREGORIAN
METHOD:PUBLISH
X-WR-CALNAME:First United Methodist Church Warsaw
X-ORIGINAL-URL:https://www.firstchurchwarsaw.org
X-WR-CALDESC:Events for First United Methodist Church Warsaw
REFRESH-INTERVAL;VALUE=DURATION:PT1H
X-Robots-Tag:noindex
X-PUBLISHED-TTL:PT1H
BEGIN:VTIMEZONE
TZID:America/North_Dakota/Center
BEGIN:DAYLIGHT
TZOFFSETFROM:-0600
TZOFFSETTO:-0500
TZNAME:CDT
DTSTART:20250309T080000
END:DAYLIGHT
BEGIN:STANDARD
TZOFFSETFROM:-0500
TZOFFSETTO:-0600
TZNAME:CST
DTSTART:20251102T070000
END:STANDARD
BEGIN:DAYLIGHT
TZOFFSETFROM:-0600
TZOFFSETTO:-0500
TZNAME:CDT
DTSTART:20260308T080000
END:DAYLIGHT
BEGIN:STANDARD
TZOFFSETFROM:-0500
TZOFFSETTO:-0600
TZNAME:CST
DTSTART:20261101T070000
END:STANDARD
BEGIN:DAYLIGHT
TZOFFSETFROM:-0600
TZOFFSETTO:-0500
TZNAME:CDT
DTSTART:20270314T080000
END:DAYLIGHT
BEGIN:STANDARD
TZOFFSETFROM:-0500
TZOFFSETTO:-0600
TZNAME:CST
DTSTART:20271107T070000
END:STANDARD
END:VTIMEZONE
BEGIN:VEVENT
DTSTART;TZID=America/North_Dakota/Center:20260502T073000
DTEND;TZID=America/North_Dakota/Center:20260502T083000
DTSTAMP:20260423T111337
CREATED:20260416T132201Z
LAST-MODIFIED:20260416T132201Z
UID:7418-1777707000-1777710600@www.firstchurchwarsaw.org
SUMMARY:Men's Breakfast
DESCRIPTION:All men of the church are invited to breakfast on Saturday\, May 2 at 7:30 am in the Fellowship Hall.
URL:https://www.firstchurchwarsaw.org/event/mens-breakfast/
END:VEVENT
BEGIN:VEVENT
DTSTART;TZID=America/North_Dakota/Center:20260505T103000
DTEND;TZID=America/North_Dakota/Center:20260505T120000
DTSTAMP:20260423T111337
CREATED:20260401T180242Z
LAST-MODIFIED:20260401T180242Z
UID:7335-1777977000-1777982400@www.firstchurchwarsaw.org
SUMMARY:A Hitchhikers Guide to Pain Management
DESCRIPTION:We will meet on Tuesday mornings from 10:30am-noon. May 5th for Session 1: Understanding God’s Greatest Creation: Our Brain.
URL:https://www.firstchurchwarsaw.org/event/a-hitchhikers-guide-to-pain-management/
END:VEVENT
BEGIN:VEVENT
DTSTART;TZID=America/North_Dakota/Center:20260507T070000
DTEND;TZID=America/North_Dakota/Center:20260507T080000
DTSTAMP:20260423T111337
CREATED:20260416T132451Z
LAST-MODIFIED:20260416T132451Z
UID:7424-1778137200-1778140800@www.firstchurchwarsaw.org
SUMMARY:National Day of Prayer
DESCRIPTION:Thursday\, May 7th held at the Community Building from 7-8 AM.
URL:https://www.firstchurchwarsaw.org/event/national-day-of-prayer/
END:VEVENT
BEGIN:VEVENT
DTSTART;TZID=America/North_Dakota/Center:20260512T103000
DTEND;TZID=America/North_Dakota/Center:20260512T120000
DTSTAMP:20260423T111337
CREATED:20260401T180324Z
LAST-MODIFIED:20260401T180324Z
UID:7337-1778581800-1778587200@www.firstchurchwarsaw.org
SUMMARY:A Hitchhikers Guide to Pain Management
DESCRIPTION:We will meet on Tuesday mornings from 10:30am-noon.  May 12th for Session 2: The mind/body connection in pain management.
URL:https://www.firstchurchwarsaw.org/event/a-hitchhikers-guide-to-pain-management-2/
END:VEVENT
BEGIN:VEVENT
DTSTART;TZID=America/North_Dakota/Center:20260519T103000
DTEND;TZID=America/North_Dakota/Center:20260519T120000
DTSTAMP:20260423T111337
CREATED:20260401T180441Z
LAST-MODIFIED:20260401T180441Z
UID:7339-1779186600-1779192000@www.firstchurchwarsaw.org
SUMMARY:A Hitchhikers Guide to Pain Management
DESCRIPTION:Session 3: Unlocking the Mystery of Pain.y 26th for Session 3: Unlocking the Mystery of Pain.
URL:https://www.firstchurchwarsaw.org/event/a-hitchhikers-guide-to-pain-management-3/
END:VEVENT
BEGIN:VEVENT
DTSTART;TZID=America/North_Dakota/Center:20260520T180000
DTEND;TZID=America/North_Dakota/Center:20260520T190000
DTSTAMP:20260423T111337
CREATED:20260416T132259Z
LAST-MODIFIED:20260416T132259Z
UID:7420-1779300000-1779303600@www.firstchurchwarsaw.org
SUMMARY:First Aid Training
DESCRIPTION:Wed.\, May 20 at 6 pm in the Fellowship Hall.
URL:https://www.firstchurchwarsaw.org/event/first-aid-training/
END:VEVENT
BEGIN:VEVENT
DTSTART;TZID=America/North_Dakota/Center:20260521T180000
DTEND;TZID=America/North_Dakota/Center:20260521T190000
DTSTAMP:20260423T111337
CREATED:20260416T132359Z
LAST-MODIFIED:20260416T132359Z
UID:7422-1779386400-1779390000@www.firstchurchwarsaw.org
SUMMARY:CPR Training
DESCRIPTION:Thursday on May 21st at 6 pm in the Fellowship Hall.
URL:https://www.firstchurchwarsaw.org/event/cpr-training/
END:VEVENT
BEGIN:VEVENT
DTSTART;TZID=America/North_Dakota/Center:20260526T103000
DTEND;TZID=America/North_Dakota/Center:20260526T120000
DTSTAMP:20260423T111337
CREATED:20260401T180512Z
LAST-MODIFIED:20260401T180512Z
UID:7341-1779791400-1779796800@www.firstchurchwarsaw.org
SUMMARY:A Hitchhikers Guide to Pain Management
DESCRIPTION:Session 4: Small changes equal big results.
URL:https://www.firstchurchwarsaw.org/event/a-hitchhikers-guide-to-pain-management-4/
END:VEVENT
END:VCALENDAR