BEGIN:VCALENDAR
VERSION:2.0
PRODID:-//First United Methodist Church Warsaw - ECPv6.15.14//NONSGML v1.0//EN
CALSCALE:GREGORIAN
METHOD:PUBLISH
X-WR-CALNAME:First United Methodist Church Warsaw
X-ORIGINAL-URL:https://www.firstchurchwarsaw.org
X-WR-CALDESC:Events for First United Methodist Church Warsaw
REFRESH-INTERVAL;VALUE=DURATION:PT1H
X-Robots-Tag:noindex
X-PUBLISHED-TTL:PT1H
BEGIN:VTIMEZONE
TZID:America/North_Dakota/Center
BEGIN:DAYLIGHT
TZOFFSETFROM:-0600
TZOFFSETTO:-0500
TZNAME:CDT
DTSTART:20250309T080000
END:DAYLIGHT
BEGIN:STANDARD
TZOFFSETFROM:-0500
TZOFFSETTO:-0600
TZNAME:CST
DTSTART:20251102T070000
END:STANDARD
BEGIN:DAYLIGHT
TZOFFSETFROM:-0600
TZOFFSETTO:-0500
TZNAME:CDT
DTSTART:20260308T080000
END:DAYLIGHT
BEGIN:STANDARD
TZOFFSETFROM:-0500
TZOFFSETTO:-0600
TZNAME:CST
DTSTART:20261101T070000
END:STANDARD
BEGIN:DAYLIGHT
TZOFFSETFROM:-0600
TZOFFSETTO:-0500
TZNAME:CDT
DTSTART:20270314T080000
END:DAYLIGHT
BEGIN:STANDARD
TZOFFSETFROM:-0500
TZOFFSETTO:-0600
TZNAME:CST
DTSTART:20271107T070000
END:STANDARD
END:VTIMEZONE
BEGIN:VEVENT
DTSTART;TZID=America/North_Dakota/Center:20260204T160000
DTEND;TZID=America/North_Dakota/Center:20260204T170000
DTSTAMP:20260423T130657
CREATED:20260116T195338Z
LAST-MODIFIED:20260116T195338Z
UID:7056-1770220800-1770224400@www.firstchurchwarsaw.org
SUMMARY:"The Chosen" Watch Party Begins
DESCRIPTION:We will be watching the 8 sessions of The Chosen Season 2 starting on Wednesday\, Feb. 4th at 4 pm. It lasts about an hour and we have a brief discussion at the end. Pastor Jim will facilitate.
URL:https://www.firstchurchwarsaw.org/event/the-chosen-watch-party-begins/
END:VEVENT
BEGIN:VEVENT
DTSTART;TZID=America/North_Dakota/Center:20260208T090000
DTEND;TZID=America/North_Dakota/Center:20260208T223000
DTSTAMP:20260423T130657
CREATED:20260116T195204Z
LAST-MODIFIED:20260128T172146Z
UID:7054-1770541200-1770589800@www.firstchurchwarsaw.org
SUMMARY:Confirmation For Youth Begins
DESCRIPTION:Starting on Sunday\, Feb. 1st we will have confirmation classes for 8 weeks. These are designed to help 6th-12th graders explore the faith and learn about following Jesus. Class will be held in the Ignite Room from 9:20 to 10:15 am each Sunday led by pastor Jim. Please sign up now!
URL:https://www.firstchurchwarsaw.org/event/confirmation-for-youth-begins/
END:VEVENT
BEGIN:VEVENT
DTSTART;TZID=America/North_Dakota/Center:20260217T100000
DTEND;TZID=America/North_Dakota/Center:20260217T140000
DTSTAMP:20260423T130657
CREATED:20260116T195913Z
LAST-MODIFIED:20260116T195913Z
UID:7062-1771322400-1771336800@www.firstchurchwarsaw.org
SUMMARY:Laity Class: Jump Start
DESCRIPTION:Join & ride with C. Bolinger in attending a laity class. Jump Start: Unpacking Mental Health Workshop will be held Tuesday\, Feb. 17 from 10 to 2 in Columbia\, Mo. Registration closes Feb. 11. Cost is $25 for book and lunch. Contact C. Bolinger at 660-723-3204.
URL:https://www.firstchurchwarsaw.org/event/laity-class-jump-start/
END:VEVENT
BEGIN:VEVENT
DTSTART;TZID=America/North_Dakota/Center:20260218T183000
DTEND;TZID=America/North_Dakota/Center:20260218T193000
DTSTAMP:20260423T130657
CREATED:20260205T175114Z
LAST-MODIFIED:20260205T175114Z
UID:7132-1771439400-1771443000@www.firstchurchwarsaw.org
SUMMARY:Ash Wednesday
DESCRIPTION:Join us for Ash Wednesday Service on February 18 6:30 pm.
URL:https://www.firstchurchwarsaw.org/event/ash-wednesday/
END:VEVENT
BEGIN:VEVENT
DTSTART;TZID=America/North_Dakota/Center:20260221T170000
DTEND;TZID=America/North_Dakota/Center:20260221T183000
DTSTAMP:20260423T130657
CREATED:20260205T175019Z
LAST-MODIFIED:20260205T175019Z
UID:7130-1771693200-1771698600@www.firstchurchwarsaw.org
SUMMARY:Valentine's Day Dinner
DESCRIPTION:Support Ignite’s 4th annual Valentine’s Day Dinner. Held Sat. Feb. 21st from 5:00-6:30 pm. Tickets are available now. Single: $20 Couple: $36.
URL:https://www.firstchurchwarsaw.org/event/valentines-day-dinner/
END:VEVENT
BEGIN:VEVENT
DTSTART;TZID=America/North_Dakota/Center:20260222T080000
DTEND;TZID=America/North_Dakota/Center:20260222T113000
DTSTAMP:20260423T130657
CREATED:20260205T180315Z
LAST-MODIFIED:20260205T180315Z
UID:7154-1771747200-1771759800@www.firstchurchwarsaw.org
SUMMARY:Lent Message Series Begins: Open My Eyes Lord
DESCRIPTION:1st Sunday of Lent-Feb. 22nd “Betraying Eyes” \n2nd Sunday of Lent-March 1st “Sleepy Eyes” \n3rd Sunday of Lent-March 8th “Denying Eyes” \n4th Sunday of Lent-March 15th “Murderous Eyes” \n5th Sunday of Lent-March 22nd “Worldly Eyes”
URL:https://www.firstchurchwarsaw.org/event/lent-message-series-begins-open-my-eyes-lord/
END:VEVENT
END:VCALENDAR