BEGIN:VCALENDAR
VERSION:2.0
PRODID:-//First United Methodist Church Warsaw - ECPv6.15.14//NONSGML v1.0//EN
CALSCALE:GREGORIAN
METHOD:PUBLISH
X-ORIGINAL-URL:https://www.firstchurchwarsaw.org
X-WR-CALDESC:Events for First United Methodist Church Warsaw
REFRESH-INTERVAL;VALUE=DURATION:PT1H
X-Robots-Tag:noindex
X-PUBLISHED-TTL:PT1H
BEGIN:VTIMEZONE
TZID:America/North_Dakota/Center
BEGIN:DAYLIGHT
TZOFFSETFROM:-0600
TZOFFSETTO:-0500
TZNAME:CDT
DTSTART:20240310T080000
END:DAYLIGHT
BEGIN:STANDARD
TZOFFSETFROM:-0500
TZOFFSETTO:-0600
TZNAME:CST
DTSTART:20241103T070000
END:STANDARD
BEGIN:DAYLIGHT
TZOFFSETFROM:-0600
TZOFFSETTO:-0500
TZNAME:CDT
DTSTART:20250309T080000
END:DAYLIGHT
BEGIN:STANDARD
TZOFFSETFROM:-0500
TZOFFSETTO:-0600
TZNAME:CST
DTSTART:20251102T070000
END:STANDARD
BEGIN:DAYLIGHT
TZOFFSETFROM:-0600
TZOFFSETTO:-0500
TZNAME:CDT
DTSTART:20260308T080000
END:DAYLIGHT
BEGIN:STANDARD
TZOFFSETFROM:-0500
TZOFFSETTO:-0600
TZNAME:CST
DTSTART:20261101T070000
END:STANDARD
END:VTIMEZONE
BEGIN:VEVENT
DTSTART;TZID=America/North_Dakota/Center:20250817T080000
DTEND;TZID=America/North_Dakota/Center:20250817T090000
DTSTAMP:20260423T232357
CREATED:20250815T154032Z
LAST-MODIFIED:20250815T154032Z
UID:6291-1755417600-1755421200@www.firstchurchwarsaw.org
SUMMARY:First Service
DESCRIPTION:Our traditional Service begins at 8:15 AM. Join us for a time of worship!
URL:https://www.firstchurchwarsaw.org/event/first-service/
END:VEVENT
BEGIN:VEVENT
DTSTART;TZID=America/North_Dakota/Center:20250817T093000
DTEND;TZID=America/North_Dakota/Center:20250817T103000
DTSTAMP:20260423T232357
CREATED:20250815T153744Z
LAST-MODIFIED:20250815T153744Z
UID:6287-1755423000-1755426600@www.firstchurchwarsaw.org
SUMMARY:Adult Sunday School
DESCRIPTION:Adult Sunday School begins following 1st service at 9:25. Call the office for information about classes. Classes meet downstairs.
URL:https://www.firstchurchwarsaw.org/event/adult-sunday-school/
END:VEVENT
BEGIN:VEVENT
DTSTART;TZID=America/North_Dakota/Center:20250817T103000
DTEND;TZID=America/North_Dakota/Center:20250817T233000
DTSTAMP:20260423T232357
CREATED:20250815T154114Z
LAST-MODIFIED:20250815T154114Z
UID:6293-1755426600-1755473400@www.firstchurchwarsaw.org
SUMMARY:Second Service
DESCRIPTION:Our mixed service begins at 10:30 AM. Please join us for a time of worship.
URL:https://www.firstchurchwarsaw.org/event/second-service/
END:VEVENT
BEGIN:VEVENT
DTSTART;TZID=America/North_Dakota/Center:20250817T170000
DTEND;TZID=America/North_Dakota/Center:20250817T190000
DTSTAMP:20260423T232357
CREATED:20250814T205017Z
LAST-MODIFIED:20250814T205017Z
UID:6275-1755450000-1755457200@www.firstchurchwarsaw.org
SUMMARY:IGNITE: Yuck Night
DESCRIPTION:Things are about to get real messyJoin us for a night of slime\, surprises\, and serious funWarning: clean clothes and weak stomachs not recommended \nHow To Be Ready: Wear clothes you’re okay getting yucky & bring a towel and a change of clothing.  \nAugst 17th\, 2025: 5-7PM \nOpen to children 6th-12th grade
URL:https://www.firstchurchwarsaw.org/event/ignite-yuck-night/
END:VEVENT
BEGIN:VEVENT
DTSTART;TZID=America/North_Dakota/Center:20250821T163000
DTEND;TZID=America/North_Dakota/Center:20250821T173000
DTSTAMP:20260423T232357
CREATED:20250815T153948Z
LAST-MODIFIED:20250815T153948Z
UID:6289-1755793800-1755797400@www.firstchurchwarsaw.org
SUMMARY:Soup & More Community Kitchen
DESCRIPTION:Soup & More Community Kitchen offers a meal every Thursday at 4:30-5:30 PM. All are welcome! The meal is served downstairs. 
URL:https://www.firstchurchwarsaw.org/event/soup-more-community-kitchen/
END:VEVENT
BEGIN:VEVENT
DTSTART;TZID=America/North_Dakota/Center:20250822T100000
DTEND;TZID=America/North_Dakota/Center:20250822T110000
DTSTAMP:20260423T232357
CREATED:20250815T153635Z
LAST-MODIFIED:20250815T153635Z
UID:6281-1755856800-1755860400@www.firstchurchwarsaw.org
SUMMARY:Ladies' Coffee
DESCRIPTION:All ladies are invited to join us each Friday at 10 am at Red Wing Coffee\, 936 Main St.
URL:https://www.firstchurchwarsaw.org/event/ladies-coffee/
LOCATION:Red Wing Coffee\, 936 Main St\, Warsaw
END:VEVENT
BEGIN:VEVENT
DTSTART;TZID=America/North_Dakota/Center:20250827T180000
DTEND;TZID=America/North_Dakota/Center:20250827T190000
DTSTAMP:20260423T232357
CREATED:20250814T205300Z
LAST-MODIFIED:20250814T205300Z
UID:6279-1756317600-1756321200@www.firstchurchwarsaw.org
SUMMARY:My Child & Me: Praying To Bless Yours
DESCRIPTION:As a follow up to the message of August 17th\, Pastor Jim will teach a one week study on praying with your child or grandchild. We will gather on Wednesday\, August 27th at 6 PM.
URL:https://www.firstchurchwarsaw.org/event/my-child-me-praying-to-bless-yours/
END:VEVENT
BEGIN:VEVENT
DTSTART;TZID=America/North_Dakota/Center:20250831T160000
DTEND;TZID=America/North_Dakota/Center:20250831T170000
DTSTAMP:20260423T232357
CREATED:20250814T205127Z
LAST-MODIFIED:20250814T205127Z
UID:6277-1756656000-1756659600@www.firstchurchwarsaw.org
SUMMARY:Hymn Fest & Ice Cream Social
DESCRIPTION:Come join us for a Hymnfest & Ice Cream Social on August 31 at 4 PM! All are welcome. Bring ice cream or a topping if able.
URL:https://www.firstchurchwarsaw.org/event/hymn-fest-ice-cream-social/
END:VEVENT
END:VCALENDAR