BEGIN:VCALENDAR
VERSION:2.0
PRODID:-//First United Methodist Church Warsaw - ECPv6.15.14//NONSGML v1.0//EN
CALSCALE:GREGORIAN
METHOD:PUBLISH
X-ORIGINAL-URL:https://www.firstchurchwarsaw.org
X-WR-CALDESC:Events for First United Methodist Church Warsaw
REFRESH-INTERVAL;VALUE=DURATION:PT1H
X-Robots-Tag:noindex
X-PUBLISHED-TTL:PT1H
BEGIN:VTIMEZONE
TZID:America/North_Dakota/Center
BEGIN:DAYLIGHT
TZOFFSETFROM:-0600
TZOFFSETTO:-0500
TZNAME:CDT
DTSTART:20240310T080000
END:DAYLIGHT
BEGIN:STANDARD
TZOFFSETFROM:-0500
TZOFFSETTO:-0600
TZNAME:CST
DTSTART:20241103T070000
END:STANDARD
BEGIN:DAYLIGHT
TZOFFSETFROM:-0600
TZOFFSETTO:-0500
TZNAME:CDT
DTSTART:20250309T080000
END:DAYLIGHT
BEGIN:STANDARD
TZOFFSETFROM:-0500
TZOFFSETTO:-0600
TZNAME:CST
DTSTART:20251102T070000
END:STANDARD
BEGIN:DAYLIGHT
TZOFFSETFROM:-0600
TZOFFSETTO:-0500
TZNAME:CDT
DTSTART:20260308T080000
END:DAYLIGHT
BEGIN:STANDARD
TZOFFSETFROM:-0500
TZOFFSETTO:-0600
TZNAME:CST
DTSTART:20261101T070000
END:STANDARD
END:VTIMEZONE
BEGIN:VEVENT
DTSTART;TZID=America/North_Dakota/Center:20250605T183000
DTEND;TZID=America/North_Dakota/Center:20250605T183000
DTSTAMP:20260424T025433
CREATED:20250530T160456Z
LAST-MODIFIED:20250530T160456Z
UID:5720-1749148200-1749148200@www.firstchurchwarsaw.org
SUMMARY:Circle D
DESCRIPTION:Circle D meeting held at home of C. Bolinger at 6:30pm. All ladies are invited. For more information contact church office.
URL:https://www.firstchurchwarsaw.org/event/circle-d/
END:VEVENT
BEGIN:VEVENT
DTSTART;TZID=America/North_Dakota/Center:20250607T073000
DTEND;TZID=America/North_Dakota/Center:20250607T080000
DTSTAMP:20260424T025433
CREATED:20250530T160607Z
LAST-MODIFIED:20250530T160607Z
UID:5722-1749281400-1749283200@www.firstchurchwarsaw.org
SUMMARY:UMM Breakfast
DESCRIPTION:United Methodist men will meet in the Fellowship Hall at 7:30am. All men are welcome and invited to bring a friend.
URL:https://www.firstchurchwarsaw.org/event/umm-breakfast/
END:VEVENT
BEGIN:VEVENT
DTSTART;TZID=America/North_Dakota/Center:20250608T103000
DTEND;TZID=America/North_Dakota/Center:20250608T233000
DTSTAMP:20260424T025433
CREATED:20250515T160818Z
LAST-MODIFIED:20250515T160837Z
UID:5417-1749378600-1749425400@www.firstchurchwarsaw.org
SUMMARY:Youth Sunday
DESCRIPTION:June 8 – Youth Sunday: Join us at 10:30 AM for a special service led by our youth\, featuring music\, prayer\, and their original skit\, Hearts on Fire! Don’t miss this uplifting and creative worship experience!
URL:https://www.firstchurchwarsaw.org/event/youth-sunday/
END:VEVENT
BEGIN:VEVENT
DTSTART;TZID=America/North_Dakota/Center:20250615T080000
DTEND;TZID=America/North_Dakota/Center:20250615T170000
DTSTAMP:20260424T025433
CREATED:20250613T175934Z
LAST-MODIFIED:20250613T175934Z
UID:5783-1749974400-1750006800@www.firstchurchwarsaw.org
SUMMARY:Peace With Justice Sunday
DESCRIPTION:Your gifts to PJS help support ministries to remove unjust systems and equip the victimized. If you would like to donate\, in addition to you regular tithe\, please put Peace with Justice Sunday in the memo line of your check or donate online at donate.gcfa.org
URL:https://www.firstchurchwarsaw.org/event/peace-with-justice-sunday/
END:VEVENT
BEGIN:VEVENT
DTSTART;TZID=America/North_Dakota/Center:20250629T103000
DTEND;TZID=America/North_Dakota/Center:20250629T113000
DTSTAMP:20260424T025433
CREATED:20250515T161056Z
LAST-MODIFIED:20250515T161056Z
UID:5421-1751193000-1751196600@www.firstchurchwarsaw.org
SUMMARY:Pastor Loren's Last Day
DESCRIPTION:June 29 – Pastor Loren’s Last Sunday: Join us at 10:30 AM as we celebrate Pastor Loren’s ministry and wish him well on his next chapter. Come be part of this special time of worship\, gratitude\, and farewell.
URL:https://www.firstchurchwarsaw.org/event/pastor-lorens-last-day/
END:VEVENT
END:VCALENDAR